BEGIN:VCALENDAR
VERSION:2.0
PRODID:-//wp-events-plugin.com//7.2.3.1//EN
TZID:Europe/Berlin
X-WR-TIMEZONE:Europe/Berlin
BEGIN:VEVENT
UID:789@cvjm-alchen.de
DTSTART;TZID=Europe/Berlin:20190515T180000
DTEND;TZID=Europe/Berlin:20190515T193000
DTSTAMP:20190422T091047Z
URL:https://cvjm-alchen.de/termine/abendmahl-2-0-mitarbeiterkreis/
SUMMARY:AbendMahl 2.0 (Mitarbeiterkreis)
DESCRIPTION:Alle Mitarbeiter des CVJM sind hier herzlich eingeladen.\n\nTre
 ffpunkt: Bei Fillies zu hause. (Bruchsgarten 2)\n\n&nbsp\;
ATTACH;FMTTYPE=image/jpeg:https://cvjm-alchen.de/wp-content/uploads/2019/0
 4/A-Mahl-1.jpg
CATEGORIES:CVJM Alchen,Termine in Alchen
END:VEVENT
BEGIN:VTIMEZONE
TZID:Europe/Berlin
X-LIC-LOCATION:Europe/Berlin
BEGIN:DAYLIGHT
DTSTART:20190331T030000
TZOFFSETFROM:+0100
TZOFFSETTO:+0200
TZNAME:CEST
END:DAYLIGHT
END:VTIMEZONE
END:VCALENDAR