BEGIN:VCALENDAR
VERSION:2.0
PRODID:-//wp-events-plugin.com//7.2.3.1//EN
TZID:Europe/Berlin
X-WR-TIMEZONE:Europe/Berlin
BEGIN:VEVENT
UID:707@cvjm-alchen.de
DTSTART;TZID=Europe/Berlin:20190112T130000
DTEND;TZID=Europe/Berlin:20190112T170000
DTSTAMP:20190103T172642Z
URL:https://cvjm-alchen.de/termine/aktion-nadelnder-weihnachtsbaum-in-alch
 en/
SUMMARY:Aktion Nadelnder Weihnachtsbaum in Alchen
DESCRIPTION:Veranstaltungsort ist oberhalb des Friedhofs Alchen.\n\n&nbsp\;
 \n\nDetails zur Veranstaltung &gt\;&gt\;&gt\; Aktion Nadelnder Weihnachtsb
 aum
CATEGORIES:CVJM Alchen,Jungschar
LOCATION:Friedhof Alchen\, Bühler Strasse\, Freudenberg-Alchen\, NRW\, 572
 58\, Siegerland\, Deutschland
GEO:50.90259289999999;7.939481999999998
X-APPLE-STRUCTURED-LOCATION;VALUE=URI;X-ADDRESS=Bühler Strasse\, Freudenbe
 rg-Alchen\, NRW\, 57258\, Siegerland\, Deutschland;X-APPLE-RADIUS=100;X-TI
 TLE=Friedhof Alchen:geo:50.90259289999999,7.939481999999998
END:VEVENT
BEGIN:VTIMEZONE
TZID:Europe/Berlin
X-LIC-LOCATION:Europe/Berlin
BEGIN:STANDARD
DTSTART:20181028T020000
TZOFFSETFROM:+0200
TZOFFSETTO:+0100
TZNAME:CET
END:STANDARD
END:VTIMEZONE
END:VCALENDAR