BEGIN:VCALENDAR
VERSION:2.0
PRODID:-//wp-events-plugin.com//7.2.3.1//EN
TZID:Europe/Berlin
X-WR-TIMEZONE:Europe/Berlin
BEGIN:VEVENT
UID:754@cvjm-alchen.de
DTSTART;TZID=Europe/Berlin:20190120T100000
DTEND;TZID=Europe/Berlin:20190120T110000
DTSTAMP:20190105T194418Z
URL:https://cvjm-alchen.de/termine/allianz-gebetswoche-2019-01-20/
SUMMARY:Allianz-Gebetswoche - Alles Gnade!
DESCRIPTION:Herzliche Einladung an alle die gemeinsam über alle Gemeindegr
 enzen für unsere Orte\, Gemeinden und für weltweilte Anliegen beten möc
 hten.\n\nDu bist herzlich eingeladen!
ATTACH;FMTTYPE=image/jpeg:https://cvjm-alchen.de/wp-content/uploads/2019/0
 1/allianzkreuz-cvjm-alchen.jpg
CATEGORIES:Allianz,CVJM Alchen,Termine in Alchen,ueber den Tellerrand
LOCATION:Kirche Alchen\, Vor der Nörr 26\, Freudenberg-Alchen\, NRW\, 5725
 8\, Siegerland\, Deutschland
GEO:50.9023799;7.936941199999978
X-APPLE-STRUCTURED-LOCATION;VALUE=URI;X-ADDRESS=Vor der Nörr 26\, Freudenb
 erg-Alchen\, NRW\, 57258\, Siegerland\, Deutschland;X-APPLE-RADIUS=100;X-T
 ITLE=Kirche Alchen:geo:50.9023799,7.936941199999978
END:VEVENT
BEGIN:VTIMEZONE
TZID:Europe/Berlin
X-LIC-LOCATION:Europe/Berlin
BEGIN:STANDARD
DTSTART:20181028T020000
TZOFFSETFROM:+0200
TZOFFSETTO:+0100
TZNAME:CET
END:STANDARD
END:VTIMEZONE
END:VCALENDAR