BEGIN:VCALENDAR
VERSION:2.0
PRODID:-//wp-events-plugin.com//7.2.3.1//EN
TZID:Europe/Berlin
X-WR-TIMEZONE:Europe/Berlin
BEGIN:VEVENT
UID:504@cvjm-alchen.de
DTSTART;TZID=Europe/Berlin:20180318T110000
DTEND;TZID=Europe/Berlin:20180318T130000
DTSTAMP:20180303T143534Z
URL:https://cvjm-alchen.de/termine/brunchgodi-18-03-2018-in-der-jubistaett
 e-wilgersdorf/
SUMMARY:BrunchGodi 18.03.2018 in der Jubistätte Wilgersdorf
DESCRIPTION:Am Sonntag\, den 18.03.2018\, veranstaltet der JungeErwachsenen
 Beirat des CVJM-Kreisverbands Siegerland in der Jugendbildungsstätte Wilg
 ersdorf ab 11 Uhr den\nnächsten Brunchgottesdienst!\n\nHERZLICHE EINLADUN
 G\nnicht nur für junge Erwachsene\, sondern für alle\, die Interesse hab
 en!\n\nDie Predigt wird Bolko Mörschel\, Jugendreferent im Kirchenkreis S
 iegen\, übernehmen.\n\nAußerdem wird es wieder viel Musik/Lobpreis\, die
 smal erneut mit der Band Jesus Pirates\, geben.\n\nIhr dürft gespannt sei
 n!\nFür das super leckere Essen und die Getränke kümmert sich wieder da
 s Küchenteam der Jugendbildungsstätte.\nHierfür erbitten wir einen frei
 willigen (!) Beitrag zur Deckung der Kosten im Rahmen der Kollekte!\nEs wi
 rd KEIN EINTRITT erhoben.\n\nHerzliche Grüße\nFrank Schulze\nBeirat für
  JungeErwachsenenarbeit\nim CVJM Kreisverband-Siegerland
ATTACH;FMTTYPE=image/jpeg:https://cvjm-alchen.de/wp-content/uploads/2018/0
 3/Brunchgottesdienst-März-2018.png
CATEGORIES:sonstige Termine
LOCATION:CVJM-Jugendbildungsstätte Siegerland\, Neue Hoffnung 3\, Wilnsdor
 f\, NRW\, 57234 \, Siegerland\, Deutschland
GEO:50.8118042;8.129763400000002
X-APPLE-STRUCTURED-LOCATION;VALUE=URI;X-ADDRESS=Neue Hoffnung 3\, Wilnsdorf
 \, NRW\, 57234 \, Siegerland\, Deutschland;X-APPLE-RADIUS=100;X-TITLE=CVJM
 -Jugendbildungsstätte Siegerland:geo:50.8118042,8.129763400000002
END:VEVENT
BEGIN:VTIMEZONE
TZID:Europe/Berlin
X-LIC-LOCATION:Europe/Berlin
BEGIN:STANDARD
DTSTART:20171029T020000
TZOFFSETFROM:+0200
TZOFFSETTO:+0100
TZNAME:CET
END:STANDARD
END:VTIMEZONE
END:VCALENDAR