BEGIN:VCALENDAR
VERSION:2.0
PRODID:-//wp-events-plugin.com//7.2.3.1//EN
TZID:Europe/Berlin
X-WR-TIMEZONE:Europe/Berlin
BEGIN:VEVENT
UID:31@cvjm-alchen.de
DTSTART;TZID=Europe/Berlin:20151222T190000
DTEND;TZID=Europe/Berlin:20151222T203000
DTSTAMP:20151115T132826Z
URL:https://cvjm-alchen.de/termine/cvjm-hockey-2015-12-22/
SUMMARY:CVJM Hockey
DESCRIPTION:
ATTACH;FMTTYPE=image/jpeg:https://cvjm-alchen.de/wp-content/uploads/2015/1
 1/cvjm-hockey-schlaeger.jpg
CATEGORIES:Sport
LOCATION:Turnhalle Alchen\, Seelbacherstraße\, Freudenberg-Alchen\, NRW\, 
 57258\, Siegerland\, Deutschland
GEO:50.8961139;7.9466065999999955
X-APPLE-STRUCTURED-LOCATION;VALUE=URI;X-ADDRESS=Seelbacherstraße\, Freuden
 berg-Alchen\, NRW\, 57258\, Siegerland\, Deutschland;X-APPLE-RADIUS=100;X-
 TITLE=Turnhalle Alchen:geo:50.8961139,7.9466065999999955
END:VEVENT
BEGIN:VTIMEZONE
TZID:Europe/Berlin
X-LIC-LOCATION:Europe/Berlin
BEGIN:STANDARD
DTSTART:20151025T020000
TZOFFSETFROM:+0200
TZOFFSETTO:+0100
TZNAME:CET
END:STANDARD
END:VTIMEZONE
END:VCALENDAR