BEGIN:VCALENDAR
VERSION:2.0
PRODID:-//wp-events-plugin.com//7.2.3.1//EN
TZID:Europe/Berlin
X-WR-TIMEZONE:Europe/Berlin
BEGIN:VEVENT
UID:1451@cvjm-alchen.de
DTSTART;TZID=Europe/Berlin:20260701T193000
DTEND;TZID=Europe/Berlin:20260701T193000
DTSTAMP:20260228T125414Z
URL:https://cvjm-alchen.de/termine/cvjm-huettenabend-ein-stopp-auf-deiner-
 reise-im-cvjm/
SUMMARY:CVJM Hüttenabend – EIN STOPP AUF DEINER REISE IM CVJM
DESCRIPTION: 
CATEGORIES:CVJM,CVJM Alchen,Termine in Alchen,ueber den Tellerrand
LOCATION:Kirche Alchen\, Vor der Nörr 26\, Freudenberg-Alchen\, NRW\, 5725
 8\, Siegerland\, Deutschland
GEO:50.9023799;7.936941199999978
X-APPLE-STRUCTURED-LOCATION;VALUE=URI;X-ADDRESS=Vor der Nörr 26\, Freudenb
 erg-Alchen\, NRW\, 57258\, Siegerland\, Deutschland;X-APPLE-RADIUS=100;X-T
 ITLE=Kirche Alchen:geo:50.9023799,7.936941199999978
END:VEVENT
BEGIN:VTIMEZONE
TZID:Europe/Berlin
X-LIC-LOCATION:Europe/Berlin
BEGIN:DAYLIGHT
DTSTART:20260329T030000
TZOFFSETFROM:+0100
TZOFFSETTO:+0200
TZNAME:CEST
END:DAYLIGHT
END:VTIMEZONE
END:VCALENDAR