BEGIN:VCALENDAR
VERSION:2.0
PRODID:-//wp-events-plugin.com//7.2.3.1//EN
TZID:Europe/Berlin
X-WR-TIMEZONE:Europe/Berlin
BEGIN:VEVENT
UID:69@cvjm-alchen.de
DTSTART;TZID=Europe/Berlin:20151110T190000
DTEND;TZID=Europe/Berlin:20151110T203000
DTSTAMP:20151115T141038Z
URL:https://cvjm-alchen.de/termine/fussball-2015-11-10/
SUMMARY:Fussball
DESCRIPTION:Dienstags 19:00 - 20:30 Uhr (Sommer)     Sportplatz Alchen\nDie
 nstags 19:00 - 20:30 Uhr (Winter)     Turnhalle Alchen
CATEGORIES:Sport
END:VEVENT
BEGIN:VTIMEZONE
TZID:Europe/Berlin
X-LIC-LOCATION:Europe/Berlin
BEGIN:STANDARD
DTSTART:20151025T020000
TZOFFSETFROM:+0200
TZOFFSETTO:+0100
TZNAME:CET
END:STANDARD
END:VTIMEZONE
END:VCALENDAR