BEGIN:VCALENDAR
VERSION:2.0
PRODID:-//wp-events-plugin.com//7.2.3.1//EN
TZID:Europe/Berlin
X-WR-TIMEZONE:Europe/Berlin
BEGIN:VEVENT
UID:1418@cvjm-alchen.de
DTSTART;TZID=Europe/Berlin:20260113T193000
DTEND;TZID=Europe/Berlin:20260113T193000
DTSTAMP:20251221T190723Z
URL:https://cvjm-alchen.de/termine/gott-ist-treu-gebetsveranstaltungen-der
 -allianz-2026-01-13/
SUMMARY:3. Gott ist treu - ER fordert uns zum Umkehr
DESCRIPTION:\n\nGott ist treu! Gebetsveranstaltungen der Allianz\n\nWir fre
 uen uns über alle Besucherinnen und Besucher!\n\nLasst euch darauf ein mi
 t unserem Gott zu beten. Einfach beten.
LOCATION:Vereinshaus Alchen (Ev. Gemeinschaft Alchen)\, Bruchsgarten 15A\, 
 Freudenberg-Alchen\, NRW\, 57258\, Siegerland\, Deutschland
GEO:50.8986349;7.943642599999976
X-APPLE-STRUCTURED-LOCATION;VALUE=URI;X-ADDRESS=Bruchsgarten 15A\, Freudenb
 erg-Alchen\, NRW\, 57258\, Siegerland\, Deutschland;X-APPLE-RADIUS=100;X-T
 ITLE=Vereinshaus Alchen (Ev. Gemeinschaft Alchen):geo:50.8986349,7.9436425
 99999976
END:VEVENT
BEGIN:VTIMEZONE
TZID:Europe/Berlin
X-LIC-LOCATION:Europe/Berlin
BEGIN:STANDARD
DTSTART:20251026T020000
TZOFFSETFROM:+0200
TZOFFSETTO:+0100
TZNAME:CET
END:STANDARD
END:VTIMEZONE
END:VCALENDAR