BEGIN:VCALENDAR
VERSION:2.0
PRODID:-//wp-events-plugin.com//7.2.3.1//EN
TZID:Europe/Berlin
X-WR-TIMEZONE:Europe/Berlin
BEGIN:VEVENT
UID:1421@cvjm-alchen.de
DTSTART;TZID=Europe/Berlin:20260116T193000
DTEND;TZID=Europe/Berlin:20260116T193000
DTSTAMP:20251221T190843Z
URL:https://cvjm-alchen.de/termine/gott-ist-treu-gebetsveranstaltungen-der
 -allianz-2026-01-16/
SUMMARY:6. Gott ist treu - So leben wir Gemeinschaft
DESCRIPTION:\n\nGott ist treu! Gebetsveranstaltungen der Allianz\n\nWir fre
 uen uns über alle Besucherinnen und Besucher!\n\nLasst euch darauf ein mi
 t unserem Gott zu beten. Einfach beten.
LOCATION:Evangelische Gemeinschaft Büschergrund\, Wendinger Straße 4\, Fr
 eudenberg\, NRW\, 57258\, Deutschland
GEO:50.912024;7.890941
X-APPLE-STRUCTURED-LOCATION;VALUE=URI;X-ADDRESS=Wendinger Straße 4\, Freud
 enberg\, NRW\, 57258\, Deutschland;X-APPLE-RADIUS=100;X-TITLE=Evangelische
  Gemeinschaft Büschergrund:geo:50.912024,7.890941
END:VEVENT
BEGIN:VTIMEZONE
TZID:Europe/Berlin
X-LIC-LOCATION:Europe/Berlin
BEGIN:STANDARD
DTSTART:20251026T020000
TZOFFSETFROM:+0200
TZOFFSETTO:+0100
TZNAME:CET
END:STANDARD
END:VTIMEZONE
END:VCALENDAR