BEGIN:VCALENDAR
VERSION:2.0
PRODID:-//wp-events-plugin.com//7.2.3.1//EN
TZID:Europe/Berlin
X-WR-TIMEZONE:Europe/Berlin
BEGIN:VEVENT
UID:1422@cvjm-alchen.de
DTSTART;TZID=Europe/Berlin:20260117T193000
DTEND;TZID=Europe/Berlin:20260117T193000
DTSTAMP:20251221T190908Z
URL:https://cvjm-alchen.de/termine/gott-ist-treu-gebetsveranstaltungen-der
 -allianz-2026-01-17/
SUMMARY:7. Gott ist treu - Wir beten gemeinsam für seine Welt
DESCRIPTION:\n\nGott ist treu! Gebetsveranstaltungen der Allianz\n\nWir fre
 uen uns über alle Besucherinnen und Besucher!\n\nLasst euch darauf ein mi
 t unserem Gott zu beten. Einfach beten.
LOCATION:Missionsgemeinde Meiswinkel\, Sonnenwinkel 12\, Siegen-Meiswinkel\
 , NRW\, 57078\, Siegerland\, Deutschland
GEO:50.93351999999999;7.9497499999999945
X-APPLE-STRUCTURED-LOCATION;VALUE=URI;X-ADDRESS=Sonnenwinkel 12\, Siegen-Me
 iswinkel\, NRW\, 57078\, Siegerland\, Deutschland;X-APPLE-RADIUS=100;X-TIT
 LE=Missionsgemeinde Meiswinkel:geo:50.93351999999999,7.9497499999999945
END:VEVENT
BEGIN:VTIMEZONE
TZID:Europe/Berlin
X-LIC-LOCATION:Europe/Berlin
BEGIN:STANDARD
DTSTART:20251026T020000
TZOFFSETFROM:+0200
TZOFFSETTO:+0100
TZNAME:CET
END:STANDARD
END:VTIMEZONE
END:VCALENDAR