BEGIN:VCALENDAR
VERSION:2.0
PRODID:-//wp-events-plugin.com//7.2.3.1//EN
TZID:Europe/Berlin
X-WR-TIMEZONE:Europe/Berlin
BEGIN:VEVENT
UID:1423@cvjm-alchen.de
DTSTART;TZID=Europe/Berlin:20260118T100000
DTEND;TZID=Europe/Berlin:20260118T100000
DTSTAMP:20251221T190933Z
URL:https://cvjm-alchen.de/termine/gott-ist-treu-gebetsveranstaltungen-der
 -allianz-2026-01-18/
SUMMARY:8. Gott ist treu - Unsere Botschaft für die Welt
DESCRIPTION:\n\nGott ist treu! Gebetsveranstaltungen der Allianz\n\nWir fre
 uen uns über alle Besucherinnen und Besucher!\n\nLasst euch darauf ein mi
 t unserem Gott zu beten. Einfach beten.
LOCATION:Kirche Alchen\, Vor der Nörr 26\, Freudenberg-Alchen\, NRW\, 5725
 8\, Siegerland\, Deutschland
GEO:50.9023799;7.936941199999978
X-APPLE-STRUCTURED-LOCATION;VALUE=URI;X-ADDRESS=Vor der Nörr 26\, Freudenb
 erg-Alchen\, NRW\, 57258\, Siegerland\, Deutschland;X-APPLE-RADIUS=100;X-T
 ITLE=Kirche Alchen:geo:50.9023799,7.936941199999978
END:VEVENT
BEGIN:VTIMEZONE
TZID:Europe/Berlin
X-LIC-LOCATION:Europe/Berlin
BEGIN:STANDARD
DTSTART:20251026T020000
TZOFFSETFROM:+0200
TZOFFSETTO:+0100
TZNAME:CET
END:STANDARD
END:VTIMEZONE
END:VCALENDAR