BEGIN:VCALENDAR
VERSION:2.0
PRODID:-//wp-events-plugin.com//7.2.3.1//EN
TZID:Europe/Berlin
X-WR-TIMEZONE:Europe/Berlin
BEGIN:VEVENT
UID:1141@cvjm-alchen.de
DTSTART;TZID=Europe/Berlin:20230108T100000
DTEND;TZID=Europe/Berlin:20230108T100000
DTSTAMP:20230107T175342Z
URL:https://cvjm-alchen.de/termine/gottesdienst-im-rahmen-der-allianzgebet
 swoche/
SUMMARY:Gottesdienst im Rahmen der Allianzgebetswoche
DESCRIPTION:Sonntag | 8. Januar 2023 | 10 Uhr\n\nGottesdienst in der Missio
 nsgemeinde Meiswinkel
ATTACH;FMTTYPE=image/jpeg:https://cvjm-alchen.de/wp-content/uploads/2023/0
 1/AGW_23_Banner_Gesamt.jpg
CATEGORIES:Allianz,CVJM Alchen,ueber den Tellerrand
LOCATION:Missionsgemeinde Meiswinkel\, Sonnenwinkel 12\, Siegen-Meiswinkel\
 , NRW\, 57078\, Siegerland\, Deutschland
GEO:50.93351999999999;7.9497499999999945
X-APPLE-STRUCTURED-LOCATION;VALUE=URI;X-ADDRESS=Sonnenwinkel 12\, Siegen-Me
 iswinkel\, NRW\, 57078\, Siegerland\, Deutschland;X-APPLE-RADIUS=100;X-TIT
 LE=Missionsgemeinde Meiswinkel:geo:50.93351999999999,7.9497499999999945
END:VEVENT
BEGIN:VTIMEZONE
TZID:Europe/Berlin
X-LIC-LOCATION:Europe/Berlin
BEGIN:STANDARD
DTSTART:20221030T020000
TZOFFSETFROM:+0200
TZOFFSETTO:+0100
TZNAME:CET
END:STANDARD
END:VTIMEZONE
END:VCALENDAR