BEGIN:VCALENDAR
VERSION:2.0
PRODID:-//wp-events-plugin.com//7.2.3.1//EN
TZID:Europe/Berlin
X-WR-TIMEZONE:Europe/Berlin
BEGIN:VEVENT
UID:505@cvjm-alchen.de
DTSTART;TZID=Europe/Berlin:20180420T190000
DTEND;TZID=Europe/Berlin:20180420T210000
DTSTAMP:20180310T193723Z
URL:https://cvjm-alchen.de/termine/jahreshauptversammlung-2018/
SUMMARY:Jahreshauptversammlung 2018
DESCRIPTION:\n 	Begrüßung /Andacht\n 	Jahresbericht\n 	Kassenbericht\n 	E
 ntlastung d. Vorstandes\n 	Wahl d. Kassenprüfer\n 	Wahlen zum Vorstand\n 
 	Wahl d. Vorsitzenden\n 	Wahlen zur Kreisvertretung\n 	Termine\n 	Verschie
 denes\n
CATEGORIES:CVJM Alchen
LOCATION:Kirche Alchen\, Vor der Nörr 26\, Freudenberg-Alchen\, NRW\, 5725
 8\, Siegerland\, Deutschland
GEO:50.9023799;7.936941199999978
X-APPLE-STRUCTURED-LOCATION;VALUE=URI;X-ADDRESS=Vor der Nörr 26\, Freudenb
 erg-Alchen\, NRW\, 57258\, Siegerland\, Deutschland;X-APPLE-RADIUS=100;X-T
 ITLE=Kirche Alchen:geo:50.9023799,7.936941199999978
END:VEVENT
BEGIN:VTIMEZONE
TZID:Europe/Berlin
X-LIC-LOCATION:Europe/Berlin
BEGIN:DAYLIGHT
DTSTART:20180325T030000
TZOFFSETFROM:+0100
TZOFFSETTO:+0200
TZNAME:CEST
END:DAYLIGHT
END:VTIMEZONE
END:VCALENDAR