BEGIN:VCALENDAR
VERSION:2.0
PRODID:-//wp-events-plugin.com//7.2.3.1//EN
TZID:Europe/Berlin
X-WR-TIMEZONE:Europe/Berlin
BEGIN:VEVENT
UID:762@cvjm-alchen.de
DTSTART;TZID=Europe/Berlin;VALUE=DATE:20190214
DTEND;TZID=Europe/Berlin;VALUE=DATE:20190215
DTSTAMP:20190210T184924Z
URL:https://cvjm-alchen.de/termine/kein-project-t-am-14-februar/
SUMMARY:kein Project T am 14. Februar
DESCRIPTION:
CATEGORIES:Project T
END:VEVENT
BEGIN:VTIMEZONE
TZID:Europe/Berlin
X-LIC-LOCATION:Europe/Berlin
BEGIN:STANDARD
DTSTART:20181028T020000
TZOFFSETFROM:+0200
TZOFFSETTO:+0100
TZNAME:CET
END:STANDARD
END:VTIMEZONE
END:VCALENDAR