BEGIN:VCALENDAR
VERSION:2.0
PRODID:-//wp-events-plugin.com//7.2.3.1//EN
TZID:Europe/Berlin
X-WR-TIMEZONE:Europe/Berlin
BEGIN:VEVENT
UID:1042@cvjm-alchen.de
DTSTART;TZID=Europe/Berlin:20211201T183000
DTEND;TZID=Europe/Berlin:20211201T193000
DTSTAMP:20211027T185906Z
URL:https://cvjm-alchen.de/termine/lebendiger-adventskalender-2021-2021-12
 -01/
SUMMARY:Lebendiger Adventskalender 2021 - Gemeinsames Singen in der Oberhol
 zklauer Kircher
DESCRIPTION:Auch (oder gerade insbesondere) in 2021 wollen wir mit Euch die
  Adventszeit 2021 besonders feiern.\n\nWenn die Vorweihnachtszeit in Stres
 s ausartet\nund im Kommerz versinkt\, setzt der „Lebendige Adventskalend
 er“ alternative Akzente: Abend für Abend wird der Advent bewusst „beg
 angen“. Begangen im wahrsten Sinn des Wortes\, denn an jedem Abend des A
 dvent gehen Große und Kleine zu einem anderen Haus.\n\nDie Abende sollen 
 uns nicht den bereits übervollen Terminkalender noch weiter belasten\, so
 ndern eine Oase in hektischer Zeit anbieten. Wir möchten mit Ihnen im Adv
 ent ein paar Minuten der Besinnung und Gemeinschaft erleben. Die Türen un
 seres Kalenders werden dazu 24 verschiedene Häuser in unserer Kirchengeme
 inde sein. Hier möchten wir miteinander vor einem Hauseingang singen\, vi
 elleicht eine Geschichte hören\, einen Segensgruß mitnehmen – die Gest
 altung bleibt den Gastgebern überlassen. So wird Advent lebendig in den k
 urzen Feiern und Liedern. Und nicht nur Kinder und junge Familien finden d
 as klasse.
CATEGORIES:CVJM Alchen,Lebendiger Adventskalender CVJM Alchen,Termine in
 Alchen
LOCATION:Kirche Oberholzklau\, Alte Straße 31\, Freudenberg-Oberholzklau\,
  NRW\, 57258\, Siegerland\, Deutschland
GEO:50.92632;7.93434000000002
X-APPLE-STRUCTURED-LOCATION;VALUE=URI;X-ADDRESS=Alte Straße 31\, Freudenbe
 rg-Oberholzklau\, NRW\, 57258\, Siegerland\, Deutschland;X-APPLE-RADIUS=10
 0;X-TITLE=Kirche Oberholzklau:geo:50.92632,7.93434000000002
END:VEVENT
BEGIN:VTIMEZONE
TZID:Europe/Berlin
X-LIC-LOCATION:Europe/Berlin
BEGIN:STANDARD
DTSTART:20211031T020000
TZOFFSETFROM:+0200
TZOFFSETTO:+0100
TZNAME:CET
END:STANDARD
END:VTIMEZONE
END:VCALENDAR