BEGIN:VCALENDAR
VERSION:2.0
PRODID:-//wp-events-plugin.com//7.2.3.1//EN
TZID:Europe/Berlin
X-WR-TIMEZONE:Europe/Berlin
BEGIN:VEVENT
UID:1052@cvjm-alchen.de
DTSTART;TZID=Europe/Berlin:20211211T000000
DTEND;TZID=Europe/Berlin:20211211T000000
DTSTAMP:20211210T201026Z
URL:https://cvjm-alchen.de/termine/lebendiger-adventskalender-2021-2021-12
 -11/
SUMMARY:Tür 10 - abgesagt
DESCRIPTION:Dieser Termin wurde abgesagt. D.h. heute am 11. Dezember findet
  leider kein lebendiger Adventskalender statt.\n\n&nbsp\;\n\nAlle weiteren
  Termine findet hier hier &gt\;&gt\;&gt\; Übersicht Lebendiger Adventskal
 ender
CATEGORIES:CVJM Alchen,Lebendiger Adventskalender CVJM Alchen,Termine in
 Alchen
LOCATION:Siehe Beschreibung\, siehe Text\, siehe Text\, siehe Text\, Deutsc
 hland
X-APPLE-STRUCTURED-LOCATION;VALUE=URI;X-ADDRESS=siehe Text\, siehe Text\, s
 iehe Text\, Deutschland;X-APPLE-RADIUS=100;X-TITLE=Siehe Beschreibung:geo:
 0,0
END:VEVENT
BEGIN:VTIMEZONE
TZID:Europe/Berlin
X-LIC-LOCATION:Europe/Berlin
BEGIN:STANDARD
DTSTART:20211031T020000
TZOFFSETFROM:+0200
TZOFFSETTO:+0100
TZNAME:CET
END:STANDARD
END:VTIMEZONE
END:VCALENDAR