BEGIN:VCALENDAR
VERSION:2.0
PRODID:-//wp-events-plugin.com//7.2.3.1//EN
TZID:Europe/Berlin
X-WR-TIMEZONE:Europe/Berlin
BEGIN:VEVENT
UID:1057@cvjm-alchen.de
DTSTART;TZID=Europe/Berlin:20211216T190000
DTEND;TZID=Europe/Berlin:20211216T190000
DTSTAMP:20211210T193021Z
URL:https://cvjm-alchen.de/termine/lebendiger-adventskalender-2021-2021-12
 -16/
SUMMARY:Lebendiger Adventskalender 2021 - Project T 19:00 Uhr
DESCRIPTION:Project T - Kirche Alchen\n\nStart ist üblicherweise um 18:30 
 - Wie lang die jeweilige Veranstaltung dauert steht nicht fest und ist dem
  jeweiligen Ausrichter überlassen\n\n&nbsp\;\n\nAuch (oder gerade insbeso
 ndere) in 2021 wollen wir mit Euch die Adventszeit 2021 besonders feiern.\
 n\nWenn die Vorweihnachtszeit in Stress ausartet\nund im Kommerz versinkt\
 , setzt der „Lebendige Adventskalender“ alternative Akzente: Abend fü
 r Abend wird der Advent bewusst „begangen“. Begangen im wahrsten Sinn 
 des Wortes\, denn an jedem Abend des Advent gehen Große und Kleine zu ein
 em anderen Haus.\n\nDie Abende sollen uns nicht den bereits übervollen Te
 rminkalender noch weiter belasten\, sondern eine Oase in hektischer Zeit a
 nbieten. Wir möchten mit Ihnen im Advent ein paar Minuten der Besinnung u
 nd Gemeinschaft erleben. Die Türen unseres Kalenders werden dazu 24 versc
 hiedene Häuser in unserer Kirchengemeinde sein. Hier möchten wir miteina
 nder vor einem Hauseingang singen\, vielleicht eine Geschichte hören\, ei
 nen Segensgruß mitnehmen – die Gestaltung bleibt den Gastgebern überla
 ssen. So wird Advent lebendig in den kurzen Feiern und Liedern. Und nicht 
 nur Kinder und junge Familien finden das klasse.
CATEGORIES:CVJM Alchen,Lebendiger Adventskalender CVJM Alchen,Project
 T,Termine in Alchen
LOCATION:Kirche Alchen\, Vor der Nörr 26\, Freudenberg-Alchen\, NRW\, 5725
 8\, Siegerland\, Deutschland
GEO:50.9023799;7.936941199999978
X-APPLE-STRUCTURED-LOCATION;VALUE=URI;X-ADDRESS=Vor der Nörr 26\, Freudenb
 erg-Alchen\, NRW\, 57258\, Siegerland\, Deutschland;X-APPLE-RADIUS=100;X-T
 ITLE=Kirche Alchen:geo:50.9023799,7.936941199999978
END:VEVENT
BEGIN:VTIMEZONE
TZID:Europe/Berlin
X-LIC-LOCATION:Europe/Berlin
BEGIN:STANDARD
DTSTART:20211031T020000
TZOFFSETFROM:+0200
TZOFFSETTO:+0100
TZNAME:CET
END:STANDARD
END:VTIMEZONE
END:VCALENDAR