BEGIN:VCALENDAR
VERSION:2.0
PRODID:-//wp-events-plugin.com//7.2.3.1//EN
TZID:Europe/Berlin
X-WR-TIMEZONE:Europe/Berlin
BEGIN:VEVENT
UID:1216@cvjm-alchen.de
DTSTART;TZID=Europe/Berlin:20231215T183000
DTEND;TZID=Europe/Berlin:20231215T183000
DTSTAMP:20231019T200358Z
URL:https://cvjm-alchen.de/termine/lebendiger-adventskalender-2023-2023-12
 -15/
SUMMARY:LAK 2023 - Fam. Schmidt
DESCRIPTION:bei der Familie Schmidt\n\nAm Eibel 7\, Langenholdinghausen\n\n
 &nbsp\;\n\nAlle zwei Jahre finden in Alchen der LEBENDIGE ADVENTSKALENDER 
 statt.\n\nJeden Abend im Advent öffnet eine Familie\, ein Einwohner oder 
 auch ein ganzer Verein symbolisch eine Tür im lebendigen Adventskalender.
  Gute Worte\, inspirierende Gedanken\, leckere Getränke und Speisen laden
  ein sich auf die Geburt von Jesus zu freuen.\n\nWeitere Details zu den Ve
 ranstaltungen werden später bekannt gegeben.\n\nWer dieses Jahr mitmachen
  möchte\, meldet sich gerne bei Anne Fillies unter 0271 3 72 03 96.\n\n&n
 bsp\;\n\nPS: Natürlich könnt ihr auch mitmachen wenn ihr in den Nachbaro
 rten von Alchen wohnt. Wir freuen uns über alle die mitmachen!
ATTACH;FMTTYPE=image/jpeg:https://cvjm-alchen.de/wp-content/uploads/2021/1
 2/2021-12-15-13.20.48-2.jpg
CATEGORIES:CVJM Alchen,Lebendiger Adventskalender CVJM Alchen
END:VEVENT
BEGIN:VTIMEZONE
TZID:Europe/Berlin
X-LIC-LOCATION:Europe/Berlin
BEGIN:STANDARD
DTSTART:20231029T020000
TZOFFSETFROM:+0200
TZOFFSETTO:+0100
TZNAME:CET
END:STANDARD
END:VTIMEZONE
END:VCALENDAR