BEGIN:VCALENDAR
VERSION:2.0
PRODID:-//wp-events-plugin.com//7.2.3.1//EN
TZID:Europe/Berlin
X-WR-TIMEZONE:Europe/Berlin
BEGIN:VEVENT
UID:1224@cvjm-alchen.de
DTSTART;TZID=Europe/Berlin:20231223T183000
DTEND;TZID=Europe/Berlin:20231223T183000
DTSTAMP:20231124T142103Z
URL:https://cvjm-alchen.de/termine/lebendiger-adventskalender-2023-2023-12
 -23/
SUMMARY:LAK 2023 | Offenes Weihnachtssingen in der Kirche Oberholzklau
DESCRIPTION:Die Kirchengemeinde lädt herzlich zum offenen Singen in der Ki
 rche Oberholzklau ein.\n\n-----------------------------------------\n\n&nb
 sp\;\n\nAlle zwei Jahre finden in Alchen der LEBENDIGE ADVENTSKALENDER sta
 tt.\n\nJeden Abend im Advent öffnet eine Familie\, ein Einwohner oder auc
 h ein ganzer Verein symbolisch eine Tür im lebendigen Adventskalender. Gu
 te Worte\, inspirierende Gedanken\, leckere Getränke und Speisen laden ei
 n sich auf die Geburt von Jesus zu freuen.\n\nWeitere Details zu den Veran
 staltungen werden später bekannt gegeben.\n\nWer dieses Jahr mitmachen m
 öchte\, meldet sich gerne bei Anne Fillies unter 0271 3 72 03 96.\n\n&nbs
 p\;\n\nPS: Natürlich könnt ihr auch mitmachen wenn ihr in den Nachbarort
 en von Alchen wohnt. Wir freuen uns über alle die mitmachen!
ATTACH;FMTTYPE=image/jpeg:https://cvjm-alchen.de/wp-content/uploads/2021/1
 2/2021-12-15-13.20.48-2.jpg
CATEGORIES:CVJM Alchen,Lebendiger Adventskalender CVJM Alchen
LOCATION:Kirche Oberholzklau\, Alte Straße 31\, Freudenberg-Oberholzklau\,
  NRW\, 57258\, Siegerland\, Deutschland
GEO:50.92632;7.93434000000002
X-APPLE-STRUCTURED-LOCATION;VALUE=URI;X-ADDRESS=Alte Straße 31\, Freudenbe
 rg-Oberholzklau\, NRW\, 57258\, Siegerland\, Deutschland;X-APPLE-RADIUS=10
 0;X-TITLE=Kirche Oberholzklau:geo:50.92632,7.93434000000002
END:VEVENT
BEGIN:VTIMEZONE
TZID:Europe/Berlin
X-LIC-LOCATION:Europe/Berlin
BEGIN:STANDARD
DTSTART:20231029T020000
TZOFFSETFROM:+0200
TZOFFSETTO:+0100
TZNAME:CET
END:STANDARD
END:VTIMEZONE
END:VCALENDAR