BEGIN:VCALENDAR
VERSION:2.0
PRODID:-//wp-events-plugin.com//7.2.3.1//EN
TZID:Europe/Berlin
X-WR-TIMEZONE:Europe/Berlin
BEGIN:VEVENT
UID:1066@cvjm-alchen.de
DTSTART;TZID=Europe/Berlin:20211010T180000
DTEND;TZID=Europe/Berlin:20211010T190000
DTSTAMP:20211003T193858Z
URL:https://cvjm-alchen.de/termine/lobpreisabend-gott-ist-heilig/
SUMMARY:Lobpreisabend - Gott ist heilig
DESCRIPTION:Lobpreisabend - Gott ist heilig\n\nMit der Band Awake\n\nImpuls
  von Karsten Schreiber\n\nVeranstalter ist der CVJM Oberschelden\n\nVerans
 taltungsort: Kirche Gosenbach (Kirchberg 9\, 57080 Siegen)\n\nEs gelten di
 e 3-G-Regeln\,
ATTACH;FMTTYPE=image/jpeg:https://cvjm-alchen.de/wp-content/uploads/2021/1
 0/lobpreisabend-Kirche-gosenbach.png
CATEGORIES:CVJM,ueber den Tellerrand
LOCATION:Siehe Beschreibung\, siehe Text\, siehe Text\, siehe Text\, Deutsc
 hland
X-APPLE-STRUCTURED-LOCATION;VALUE=URI;X-ADDRESS=siehe Text\, siehe Text\, s
 iehe Text\, Deutschland;X-APPLE-RADIUS=100;X-TITLE=Siehe Beschreibung:geo:
 0,0
END:VEVENT
BEGIN:VTIMEZONE
TZID:Europe/Berlin
X-LIC-LOCATION:Europe/Berlin
BEGIN:DAYLIGHT
DTSTART:20210328T030000
TZOFFSETFROM:+0100
TZOFFSETTO:+0200
TZNAME:CEST
END:DAYLIGHT
END:VTIMEZONE
END:VCALENDAR