BEGIN:VCALENDAR
VERSION:2.0
PRODID:-//wp-events-plugin.com//7.2.3.1//EN
TZID:Europe/Berlin
X-WR-TIMEZONE:Europe/Berlin
BEGIN:VEVENT
UID:927@cvjm-alchen.de
DTSTART;TZID=Europe/Berlin:20200922T190000
DTEND;TZID=Europe/Berlin:20200922T203000
DTSTAMP:20200813T190643Z
URL:https://cvjm-alchen.de/termine/project-t-11-2020-09-24/
SUMMARY:Project T - Floor (M) DIENSTAG
DESCRIPTION:Wir besuchen die Floorballgruppe und somit natürlich auch unse
 ren berühmten Project T-Mitarbeiter a.D. Volker G.\n\n&nbsp\;\n\nBlockter
 mine für das 2. Halbjahr. Wir geben weitere Infos wenn wir das 2. Halbjah
 r für Euch geplant haben.\n\nWir freuen uns auf Euch!\n\n&nbsp\;\n\nAlle 
 Termine werden unter Berücksichtigung der dann gültigen Hygienevorschrif
 ten durchgeführt. Ggfs. kann es daher kurzfristig noch zu Planänderungen
  kommen\, z.B. Ortswechsel usw... Wir informieren Euch dann jeweils kurzfr
 istig.
ATTACH;FMTTYPE=image/jpeg:https://cvjm-alchen.de/wp-content/uploads/2019/0
 8/IMG-20190124-WA0001.jpg
CATEGORIES:Project T
LOCATION:Turnhalle Alchen\, Seelbacherstraße\, Freudenberg-Alchen\, NRW\, 
 57258\, Siegerland\, Deutschland
GEO:50.8961139;7.9466065999999955
X-APPLE-STRUCTURED-LOCATION;VALUE=URI;X-ADDRESS=Seelbacherstraße\, Freuden
 berg-Alchen\, NRW\, 57258\, Siegerland\, Deutschland;X-APPLE-RADIUS=100;X-
 TITLE=Turnhalle Alchen:geo:50.8961139,7.9466065999999955
END:VEVENT
BEGIN:VTIMEZONE
TZID:Europe/Berlin
X-LIC-LOCATION:Europe/Berlin
BEGIN:DAYLIGHT
DTSTART:20200329T030000
TZOFFSETFROM:+0100
TZOFFSETTO:+0200
TZNAME:CEST
END:DAYLIGHT
END:VTIMEZONE
END:VCALENDAR