BEGIN:VCALENDAR
VERSION:2.0
PRODID:-//wp-events-plugin.com//7.2.3.1//EN
TZID:Europe/Berlin
X-WR-TIMEZONE:Europe/Berlin
BEGIN:VEVENT
UID:928@cvjm-alchen.de
DTSTART;TZID=Europe/Berlin:20201001T193000
DTEND;TZID=Europe/Berlin:20201001T211500
DTSTAMP:20200813T185249Z
URL:https://cvjm-alchen.de/termine/project-t-11-2020-10-01/
SUMMARY:Project T - Nass (L)
DESCRIPTION:Blocktermine für das 2. Halbjahr. Wir geben weitere Infos wenn
  wir das 2. Halbjahr für Euch geplant haben.\n\nWir freuen uns auf Euch!\
 n\n&nbsp\;\n\nAlle Termine werden unter Berücksichtigung der dann gültig
 en Hygienevorschriften durchgeführt. Ggfs. kann es daher kurzfristig noch
  zu Planänderungen kommen\, z.B. Ortswechsel usw... Wir informieren Euch 
 dann jeweils kurzfristig.
ATTACH;FMTTYPE=image/jpeg:https://cvjm-alchen.de/wp-content/uploads/2019/0
 8/IMG-20190124-WA0001.jpg
CATEGORIES:Project T
LOCATION:Kirche Alchen\, Vor der Nörr 26\, Freudenberg-Alchen\, NRW\, 5725
 8\, Siegerland\, Deutschland
GEO:50.9023799;7.936941199999978
X-APPLE-STRUCTURED-LOCATION;VALUE=URI;X-ADDRESS=Vor der Nörr 26\, Freudenb
 erg-Alchen\, NRW\, 57258\, Siegerland\, Deutschland;X-APPLE-RADIUS=100;X-T
 ITLE=Kirche Alchen:geo:50.9023799,7.936941199999978
END:VEVENT
BEGIN:VTIMEZONE
TZID:Europe/Berlin
X-LIC-LOCATION:Europe/Berlin
BEGIN:DAYLIGHT
DTSTART:20200329T030000
TZOFFSETFROM:+0100
TZOFFSETTO:+0200
TZNAME:CEST
END:DAYLIGHT
END:VTIMEZONE
END:VCALENDAR