BEGIN:VCALENDAR
VERSION:2.0
PRODID:-//wp-events-plugin.com//7.2.3.1//EN
TZID:Europe/Berlin
X-WR-TIMEZONE:Europe/Berlin
BEGIN:VEVENT
UID:1127@cvjm-alchen.de
DTSTART;TZID=Europe/Berlin:20221125T193000
DTEND;TZID=Europe/Berlin:20221125T193000
DTSTAMP:20220804T174001Z
URL:https://cvjm-alchen.de/termine/project-t-14-2022-11-24/
SUMMARY:Project T - LAN (verkabelt)- B
DESCRIPTION:Project T - 2. Halbjahr 2022\n\nWenn nichts spezielles hier ste
 ht\, treffen wir uns an der Kirche Alchen um 19.30 Uhr.\n\nWir freuen uns 
 auch immer über neue Besucher.\n\nBis dann euer Project T Mitarbeiter Tea
 m
ATTACH;FMTTYPE=image/jpeg:https://cvjm-alchen.de/wp-content/uploads/2022/0
 1/2022-01-11_Project-T-2022-Programm-1-Halbjahr.png
CATEGORIES:Project T
LOCATION:Kirche Alchen\, Vor der Nörr 26\, Freudenberg-Alchen\, NRW\, 5725
 8\, Siegerland\, Deutschland
GEO:50.9023799;7.936941199999978
X-APPLE-STRUCTURED-LOCATION;VALUE=URI;X-ADDRESS=Vor der Nörr 26\, Freudenb
 erg-Alchen\, NRW\, 57258\, Siegerland\, Deutschland;X-APPLE-RADIUS=100;X-T
 ITLE=Kirche Alchen:geo:50.9023799,7.936941199999978
END:VEVENT
BEGIN:VTIMEZONE
TZID:Europe/Berlin
X-LIC-LOCATION:Europe/Berlin
BEGIN:STANDARD
DTSTART:20221030T020000
TZOFFSETFROM:+0200
TZOFFSETTO:+0100
TZNAME:CET
END:STANDARD
END:VTIMEZONE
END:VCALENDAR