BEGIN:VCALENDAR
VERSION:2.0
PRODID:-//wp-events-plugin.com//7.2.3.1//EN
TZID:Europe/Berlin
X-WR-TIMEZONE:Europe/Berlin
BEGIN:VEVENT
UID:1232@cvjm-alchen.de
DTSTART;TZID=Europe/Berlin:20230817T193000
DTEND;TZID=Europe/Berlin:20230817T210000
DTSTAMP:20230810T180406Z
URL:https://cvjm-alchen.de/termine/project-t-16-2023-08-17/
SUMMARY:Project T - Zitzensbach - B
DESCRIPTION:Wir fahren Richtung Ferndorf in die Zitzensbach.\n\nBitte bring
 t Eure Badehose/Handtuch mit.\n\nggfs. bestände anschließend noch die M
 öglichkeit was bei Mecces zu essen.\n\n&nbsp\;\n\nProject T - 2. Halbjahr
  2023\n\nWir freuen uns auch immer über neue Besucherinnen und Besucher.\
 n\nAlso nicht lange überlegen\, komme einfach vorbei. :)\n\nBis dann euer
  Project T Mitarbeiter Team\n\n&nbsp\;\n\nPS: Wenn nichts Spezielles hier 
 steht\, treffen wir uns an der Kirche Alchen (Vor der Nörr 26\, 57258 Fre
 udenberg-Alchen um 19.30 Uhr.
ATTACH;FMTTYPE=image/jpeg:https://cvjm-alchen.de/wp-content/uploads/2019/0
 8/IMG-20190124-WA0001.jpg
CATEGORIES:Project T
LOCATION:Kirche Alchen\, Vor der Nörr 26\, Freudenberg-Alchen\, NRW\, 5725
 8\, Siegerland\, Deutschland
GEO:50.9023799;7.936941199999978
X-APPLE-STRUCTURED-LOCATION;VALUE=URI;X-ADDRESS=Vor der Nörr 26\, Freudenb
 erg-Alchen\, NRW\, 57258\, Siegerland\, Deutschland;X-APPLE-RADIUS=100;X-T
 ITLE=Kirche Alchen:geo:50.9023799,7.936941199999978
END:VEVENT
BEGIN:VTIMEZONE
TZID:Europe/Berlin
X-LIC-LOCATION:Europe/Berlin
BEGIN:DAYLIGHT
DTSTART:20230326T030000
TZOFFSETFROM:+0100
TZOFFSETTO:+0200
TZNAME:CEST
END:DAYLIGHT
END:VTIMEZONE
END:VCALENDAR