BEGIN:VCALENDAR
VERSION:2.0
PRODID:-//wp-events-plugin.com//7.2.3.1//EN
TZID:Europe/Berlin
X-WR-TIMEZONE:Europe/Berlin
BEGIN:VEVENT
UID:737@cvjm-alchen.de
DTSTART;TZID=Europe/Berlin:20190501T100000
DTEND;TZID=Europe/Berlin:20190501T160000
DTSTAMP:20190416T204811Z
URL:https://cvjm-alchen.de/termine/project-t-cvjm-wanderung-m/
SUMMARY:Project T - CVJM Wanderung - M
DESCRIPTION:Weitere Infos findest Du hier &gt\;&gt\;&gt\; Wanderung am 1. M
 ai
ATTACH;FMTTYPE=image/jpeg:https://cvjm-alchen.de/wp-content/uploads/2019/0
 4/2019-04-16-22_45_46-Rothaarsteig-Spur-Trödelsteinpfad-•-Wanderung.png
CATEGORIES:Project T
END:VEVENT
BEGIN:VTIMEZONE
TZID:Europe/Berlin
X-LIC-LOCATION:Europe/Berlin
BEGIN:DAYLIGHT
DTSTART:20190331T030000
TZOFFSETFROM:+0100
TZOFFSETTO:+0200
TZNAME:CEST
END:DAYLIGHT
END:VTIMEZONE
END:VCALENDAR