BEGIN:VCALENDAR
VERSION:2.0
PRODID:-//wp-events-plugin.com//7.2.3.1//EN
TZID:Europe/Berlin
X-WR-TIMEZONE:Europe/Berlin
BEGIN:VEVENT
UID:396@cvjm-alchen.de
DTSTART;TZID=Europe/Berlin:20180410T190000
DTEND;TZID=Europe/Berlin:20180410T203000
DTSTAMP:20180108T200151Z
URL:https://cvjm-alchen.de/termine/project-t-floorball-achtung-dienstag-v/
SUMMARY:Project T - Floorball (Dienstag!) - V
DESCRIPTION:
ATTACH;FMTTYPE=image/jpeg:https://cvjm-alchen.de/wp-content/uploads/2016/0
 6/IMG_20160526_120250.jpg
CATEGORIES:Project T
LOCATION:Turnhalle Alchen\, Seelbacherstraße\, Freudenberg-Alchen\, NRW\, 
 57258\, Siegerland\, Deutschland
GEO:50.8961139;7.9466065999999955
X-APPLE-STRUCTURED-LOCATION;VALUE=URI;X-ADDRESS=Seelbacherstraße\, Freuden
 berg-Alchen\, NRW\, 57258\, Siegerland\, Deutschland;X-APPLE-RADIUS=100;X-
 TITLE=Turnhalle Alchen:geo:50.8961139,7.9466065999999955
END:VEVENT
BEGIN:VTIMEZONE
TZID:Europe/Berlin
X-LIC-LOCATION:Europe/Berlin
BEGIN:DAYLIGHT
DTSTART:20180325T030000
TZOFFSETFROM:+0100
TZOFFSETTO:+0200
TZNAME:CEST
END:DAYLIGHT
END:VTIMEZONE
END:VCALENDAR