BEGIN:VCALENDAR
VERSION:2.0
PRODID:-//wp-events-plugin.com//7.2.3.1//EN
TZID:Europe/Berlin
X-WR-TIMEZONE:Europe/Berlin
BEGIN:VEVENT
UID:1040@cvjm-alchen.de
DTSTART;TZID=Europe/Berlin;VALUE=DATE:20211029
DTEND;TZID=Europe/Berlin;VALUE=DATE:20211102
DTSTAMP:20210923T184927Z
URL:https://cvjm-alchen.de/termine/project-t-freizeit-2021/
SUMMARY:Project T Freizeit 2021
DESCRIPTION:Weitere Details kommen kurzfristig\, bzw. werden an dieser Stel
 le auch verlinkt.
ATTACH;FMTTYPE=image/jpeg:https://cvjm-alchen.de/wp-content/uploads/2015/1
 1/project-t-symbol.jpg
CATEGORIES:CVJM Alchen,Project T,ueber den Tellerrand
LOCATION:Haus Andreas\, Waldfriede 3\, Seesbach\, 55629 \, Hunsrück\, Deut
 schland
X-APPLE-STRUCTURED-LOCATION;VALUE=URI;X-ADDRESS=Waldfriede 3\, Seesbach\, 5
 5629 \, Hunsrück\, Deutschland;X-APPLE-RADIUS=100;X-TITLE=Haus Andreas:ge
 o:0,0
END:VEVENT
BEGIN:VTIMEZONE
TZID:Europe/Berlin
X-LIC-LOCATION:Europe/Berlin
BEGIN:DAYLIGHT
DTSTART:20210328T030000
TZOFFSETFROM:+0100
TZOFFSETTO:+0200
TZNAME:CEST
END:DAYLIGHT
BEGIN:STANDARD
DTSTART:20211031T020000
TZOFFSETFROM:+0200
TZOFFSETTO:+0100
TZNAME:CET
END:STANDARD
END:VTIMEZONE
END:VCALENDAR