BEGIN:VCALENDAR
VERSION:2.0
PRODID:-//wp-events-plugin.com//7.2.3.1//EN
TZID:Europe/Berlin
X-WR-TIMEZONE:Europe/Berlin
BEGIN:VEVENT
UID:981@cvjm-alchen.de
DTSTART;TZID=Europe/Berlin:20210213T160000
DTEND;TZID=Europe/Berlin:20210213T200000
DTSTAMP:20210121T195311Z
URL:https://cvjm-alchen.de/termine/project-t-world-wide-games-reloaded-in-
 vier-stunden-um-die-welt/
SUMMARY:Project T - world wide games RELOADED - in vier Stunden um die Welt
DESCRIPTION:Schon die erste WORLD WIDE GAMES Runde war super spannend und l
 ustig und daher hat uns der EJW zu einer 2. Runde eingeladen.\n\n&nbsp\;\n
 \nProject T - world wide games - in vier Stunden um die Welt\n\nEin Online
 -Spiel zusammen mit Euch! Wir gehen gemeinsam online auf eine Weltreise. W
 eitere Details dazu gibt´s später.\n\nSeit gespannt!\n\n&nbsp\;
ATTACH;FMTTYPE=image/jpeg:https://cvjm-alchen.de/wp-content/uploads/2020/1
 2/Logo_world_wide_games_2021__mit_Project-T.jpg
CATEGORIES:Project T
LOCATION:http://kommt%20no
END:VEVENT
BEGIN:VTIMEZONE
TZID:Europe/Berlin
X-LIC-LOCATION:Europe/Berlin
BEGIN:STANDARD
DTSTART:20201025T020000
TZOFFSETFROM:+0200
TZOFFSETTO:+0100
TZNAME:CET
END:STANDARD
END:VTIMEZONE
END:VCALENDAR