BEGIN:VCALENDAR
VERSION:2.0
PRODID:-//wp-events-plugin.com//7.2.3.1//EN
TZID:Europe/Berlin
X-WR-TIMEZONE:Europe/Berlin
BEGIN:VEVENT
UID:1433@cvjm-alchen.de
DTSTART;TZID=Europe/Berlin:20260319T193000
DTEND;TZID=Europe/Berlin:20260319T193000
DTSTAMP:20260307T112910Z
URL:https://cvjm-alchen.de/termine/project-t-x-2-2026-01-22-2026-01-29-202
 6-02-05-2026-02-12-2026-02-19-2026-02-26-2026-03-05-2026-03-12-2026-03-19/
SUMMARY:Project T | Das Spiel mit den 3 Affen | B
DESCRIPTION:Thema\n\n------------------------------------------------------
 ---------------------------\n\nHerzliche Einladung zu Project T dem Jugend
 kreis in Alchen!\n\nDu bist neu und warst noch nie bei uns? Kein Problem\,
  schau gerne einfach vorbei. Wir treffen uns an der Kirche Alchen  (Adres
 se siehe unten) um 19:30. Falls wir mit der Jugendgruppe eine besondere Ak
 tion geplant haben und der Ort oder die Zeit abweichend ist\, wird das auc
 h hier bei dem jeweiligen Termin notiert.\n\nWir freuen uns über jede/jed
 en die/der vorbeikommt.\n\nViele Grüße dein Project T-Team\n\n&nbsp\;\n\
 nWarum wir die Jugendgruppe des CVJM Alchen Project T nennen? --&gt\; Hier
  findest Du dazu mehr Informationen. 
ATTACH;FMTTYPE=image/jpeg:https://cvjm-alchen.de/wp-content/uploads/2019/0
 8/IMG-20190124-WA0001.jpg
CATEGORIES:Jugendgruppe Alchen,Project T
LOCATION:Kirche Alchen\, Vor der Nörr 26\, Freudenberg-Alchen\, NRW\, 5725
 8\, Siegerland\, Deutschland
GEO:50.9023799;7.936941199999978
X-APPLE-STRUCTURED-LOCATION;VALUE=URI;X-ADDRESS=Vor der Nörr 26\, Freudenb
 erg-Alchen\, NRW\, 57258\, Siegerland\, Deutschland;X-APPLE-RADIUS=100;X-T
 ITLE=Kirche Alchen:geo:50.9023799,7.936941199999978
END:VEVENT
BEGIN:VTIMEZONE
TZID:Europe/Berlin
X-LIC-LOCATION:Europe/Berlin
BEGIN:STANDARD
DTSTART:20251026T020000
TZOFFSETFROM:+0200
TZOFFSETTO:+0100
TZNAME:CET
END:STANDARD
END:VTIMEZONE
END:VCALENDAR