BEGIN:VCALENDAR
VERSION:2.0
PRODID:-//wp-events-plugin.com//7.2.3.1//EN
TZID:Europe/Berlin
X-WR-TIMEZONE:Europe/Berlin
BEGIN:VEVENT
UID:760@cvjm-alchen.de
DTSTART;TZID=Europe/Berlin:20190426T200000
DTEND;TZID=Europe/Berlin:20190426T210000
DTSTAMP:20190203T201919Z
URL:https://cvjm-alchen.de/termine/respire-maennertreff-2019-04-26/
SUMMARY:Respire-Männertreff
DESCRIPTION:22.02.Spieleabend29.03.Besuch26.04.Nass
CATEGORIES:Respire-maennertreff
END:VEVENT
BEGIN:VTIMEZONE
TZID:Europe/Berlin
X-LIC-LOCATION:Europe/Berlin
BEGIN:DAYLIGHT
DTSTART:20190331T030000
TZOFFSETFROM:+0100
TZOFFSETTO:+0200
TZNAME:CEST
END:DAYLIGHT
END:VTIMEZONE
END:VCALENDAR