BEGIN:VCALENDAR
VERSION:2.0
PRODID:-//wp-events-plugin.com//7.2.3.1//EN
TZID:Europe/Berlin
X-WR-TIMEZONE:Europe/Berlin
BEGIN:VEVENT
UID:1327@cvjm-alchen.de
DTSTART;TZID=Europe/Berlin:20250111T130000
DTEND;TZID=Europe/Berlin:20250111T130000
DTSTAMP:20241213T200216Z
URL:https://cvjm-alchen.de/termine/verbrennen-der-weihnachtsbaeume-2/
SUMMARY:Verbrennen der Weihnachtsbäume
DESCRIPTION:Weitere Details findest Du hier:\nWeihnachtsbaumaktion am 11.Ja
 nuar 2025 in Alchen
ATTACH;FMTTYPE=image/jpeg:https://cvjm-alchen.de/wp-content/uploads/2022/0
 1/WhatsApp-Image-2022-01-20-at-21.43.505.jpeg
CATEGORIES:CVJM Alchen,Jungschar
LOCATION:Platz neben dem Friedhof Alchen\, Bühler Straße\, Freudenberg-Al
 chen\, Deutschland
GEO:50.907965;7.940991
X-APPLE-STRUCTURED-LOCATION;VALUE=URI;X-ADDRESS=Bühler Straße\, Freudenbe
 rg-Alchen\, Deutschland;X-APPLE-RADIUS=100;X-TITLE=Platz neben dem Friedho
 f Alchen:geo:50.907965,7.940991
END:VEVENT
BEGIN:VTIMEZONE
TZID:Europe/Berlin
X-LIC-LOCATION:Europe/Berlin
BEGIN:STANDARD
DTSTART:20241027T020000
TZOFFSETFROM:+0200
TZOFFSETTO:+0100
TZNAME:CET
END:STANDARD
END:VTIMEZONE
END:VCALENDAR